Workbook

Sheet Titelblad
A1: Rekenmodel infliximab
A3: Dit rekenmodel is ontwikkeld als onderdeel van het programma " Implementatie Biosimilars op Maat in ziekenhuizen" (BOM), uitgevoerd door het Instituut Verantwoord Medicijngebruik en Initiatiefgroep Biosimilars Nederland en gefinancierd door het Ministerie van VWS.
A5: Dit rekenmodel is gebaseerd op het model van en doorontwikkeld met medewerking van Gelre Ziekenhuizen.
A7: Disclaimer
A8: Wij hebben de grootst mogelijke zorg besteed aan deze uitgave. Aan de inhoud hiervan kunnen echter geen rechten worden ontleend. Het Instituut voor Verantwoord Medicijngebruik is niet aansprakelijk voor directe of indirecte schade die het gevolg is van het gebruik van de informatie die door middel van deze uitgave is verkregen. Niets uit deze uitgave mag worden gebruikt zonder vooraf verkregen toestemming.

Sheet Gebruiksaanwijzing
A1: Gebruiksaanwijzing
A2: In dit rekenmodel kunt u verschillende scenario's doorrekenen, om u te helpen bij de keuze tussen het huidige voorkeursmiddel en een eventueel nieuw voorkeursmiddel.
A3: Het model is ontwikkeld voor het product infliximab. U kunt het model ook gebruiken voor andere omzettingen. Controleer dan wel goed alle aannames.
A4: Dit model is alleen geschikt voor situaties waarin er geen verschil is in toedienvorm of frequentie tussen biosimilar en originator of tussen de biosimilars onderling.
A5: In het rekenmodel is alleen rekening gehouden met de directe geneesmiddelkosten, en niet met factoren als spillage en handelingskosten.
A7: Voorblad
A8: Op het voorblad vult u gegevens in over het verbruik van een geneesmiddel in het afgelopen jaar en de huidige korting die u ontvangt.
A9: U hoeft alleen de oranje vlakken in te vullen, de andere vlakken worden vanzelf berekend.
A10: Controleert u ook de vooringevulde, blauwe vlakken of deze nog actueel zijn. Deze vlakken zijn ingevuld met de prijzen van 22 februari 2019.
A12: Scenario's
A13: Vervolgens gebruikt u het blad 'scenario blanco'. Een scenario vergelijkt steeds de geneesmiddelkosten in twee situaties:
A14: 1. Het ziekenhuis blijft bij de oude leverancier van het product
... A32: Na de switchperiode is er geen actieve switch meer. De daling van het aantal gebruikers van originator door natuurlijk verloop wordt niet meegerekend.

Sheet Voorblad
A1: Voorblad
A2: U hoeft alleen de oranje vlakken in te vullen, de andere vlakken worden vanzelf berekend.
A3: Controleert u ook de vooringevulde, blauwe vlakken of deze nog actueel zijn. Deze vlakken zijn ingevuld met de prijzen van 22 februari 2019.
C5: Toelichting
A6: Aantal mg infliximab op jaarbasis | C6: U kunt deze informatie vinden op inkoopfacturen van 2018
A7: Gemiddeld gebruik infliximab per patient/jaar (mg) | B7: =5*70*52/8 -> 2275 | C7: Uitgaande van een dosering van 5mg/kg eens per 8 weken. Gemiddeld lichaamsgewicht 70kg
A8: Gemiddeld gebruik infliximab per patient/maand (mg) | B8: =B7/12 -> 189.58333
A9: Aantal patienten dat behandeld wordt met infliximab op 1-1-2019 | B9: =B6/B7 -> 0
A11: Infliximab: prijs/mg | B11: 4.92 | C11: Op basis van de AIP van de meeste Infliximabproducten van 15 maart 2019, exclusief BTW. Let op: er zijn infliximabproducten met een afwijkende AIP. Als een van deze producten betrokken is in de vergelijking, moet het
C12: kortingspercentage dat de fabrikant voor deze producten biedt aangepast worden op het 'blad' scenario.

Sheet Scenario blanco
A1: Scenario
A2: Vul op dit blad opnieuw de oranje vlakken in. De andere vlakken worden berekend, of overgenomen van het 'voorblad'.
A4: Overname van voorblad
A5: Aantal milligram infliximab voor 2020 | B5: =Voorblad!B6 -> 0
A6: Gemiddeld gebruik infliximab per patient/jaar (mg) | B6: =Voorblad!B7 -> 2275
A7: Gemiddeld gebruik infliximab per patient/maand (mg) | B7: =Voorblad!B8 -> 189.58333
A8: Aantal patienten dat behandeld wordt met infliximab op 1-1-2020 | B8: =Voorblad!B9 -> 0
A10: Infliximab: prijs/mg | B10: =Voorblad!B11 -> 4.92
A11: Ontvangen korting huidig voorkeursmiddel tot aan eventuele overstap (%) | C11: Corrigeer kortingspercentage indien huidig voorkeursmiddel afwijkende AIP heeft
A12: Geboden korting wanneer huidig voorkeursmiddel preferent is (%) | C12: Corrigeer kortingspercentage indien huidig voorkeursmiddel afwijkende AIP heeft
A13: Geboden korting wanneer huidig voorkeursmiddel niet preferent is (%) | C13: Corrigeer kortingspercentage indien huidig voorkeursmiddel afwijkende AIP heeft
A14: Korting nieuw voorkeursmiddel (%) | C14: Corrigeer kortingspercentage indien nieuw voorkeursmiddel afwijkende AIP heeft
A16: In te vullen per scenario
A17: Percentage van de bestaande infliximabpatienten dat switcht
A18: Percentage patienten dat behandeld blijft met huidig voorkeursmiddel | B18: =100%-B17 -> 1
A20: Startdatum van switch
A21: Einddatum switchperiode
A22: Eerste dag switchjaar | B22: ="1-1-"& YEAR(B20) -> 1-1-1900
A23: Laatste dag switchjaar+1 | B23: =DATE(YEAR(B20)+1,12,31) -> 731
A24: Aantal maanden tot switch | B24: =ROUND((B20-B22)/365*12,0) -> 0
A25: Aantal maanden gedurende switch | B25: =ROUND(((B21-B20)/365*12),0) -> 0
A26: Aantal maanden na switch | B26: =ROUND(((B23-B21)/365*12),0) -> 24
A28: Kosten per patient voor infrastructuur voor een geslaagde switch | C28: Denk hierbij aan het maken van voorlichtingsmateriaal en extra tijd voor voorlichting in de spreekkamer/apotheek, omgerekend naar kosten per patiënt
A31: Kosten vóór switch (per jaar) | B31: AIP | D31: met korting
A32: Huidig voorkeursmiddel | B32: =B5*B10 -> 0 | D32: =B5*(1-B11)*B10 -> 0 | E32: =D32 -> 0 | F32: per jaar
A34: =CONCATENATE("Kosten switchjaren ",YEAR(B22),"-",YEAR(B23)) -> Kosten switchjaren 1900-1901 | B34: AIP | C34: geen switch | D34: wel switch
A35: Huidige voorkeursmiddel | B35: =B5*B10*2 -> 0 | C35: =(B8*B7*(1-B11)*B10*B24)+(B8*B7*(1-B12)*B10*(B25+B26)) -> 0
A36: Kosten tot aan switch | D36: =B8*B7*(1-B11)*B10*B24 -> 0
A37: Kosten voor NIET-switchers gedurende switch | D37: =(B8*B18*B7*(1-B13)*B10*B25) -> 0
A38: Kosten voor switchers gedurende switch | D38: =(0.5*B8*B17*B7*(1-B13)*B10*B25) -> 0
A39: Kosten niet-switchers na switch | D39: =+B8*(B18)*B7*(1-B13)*B10*B26 -> 0
A40: Nieuwe voorkeursmiddel
A41: Kosten voor switchers gedurende switch | D41: =(0.5*B8*B17*B7*(1-B14)*B10*B25) -> 0
A42: Kosten voor switchers na switch | D42: =B8*B17*B7*(1-B14)*B10*B26 -> 0
A43: Switchkosten | D43: =B28*B8*B17 -> 0
A44: Totaal | B44: =SUM(B35:B43) -> 0 | C44: =SUM(C35:C43) -> 0 | D44: =SUM(D35:D43) -> 0 | E44: =D44/2 -> 0 | F44: gemiddeld per jaar (over 2 jaar)
A45: Opbrengst switch | D45: =C44-D44 -> 0 | E45: =E32-E44 -> 0 | F45: besparing t.o.v. uitgangssituatie
A47: Kosten na switchjaren (per jaar) | B47: AIP | C47: geen switch | D47: wel switch
A48: Huidig voorkeursmiddel | B48: =B8*B7*12*B10 -> 0 | C48: =B8*B7*(1-B12)*B10*12 -> 0 | D48: =B8*B18*B7*(1-B13)*B10*12 -> 0
A49: Nieuw voorkeursmiddel | D49: =B8*B17*B7*(1-B14)*B10*12 -> 0 | E49: =D49+D48 -> 0 | F49: per jaar
E50: =E32-E49 -> 0 | F50: besparing t.o.v. uitgangssituatie

Sheet Fictief voorbeeld
A1: Scenario
A2: Vul op dit blad opnieuw de oranje vlakken in. De andere vlakken worden berekend, of overgenomen van het voorblad.
A4: Overname van voorblad
A5: Aantal milligram infliximab voor 2020 | B5: 227500
A6: Gemiddeld gebruik infliximab per patient/jaar (mg) | B6: 2275
A7: Gemiddeld gebruik infliximab per patient/maand (mg) | B7: 190
A8: Aantal patienten dat behandeld wordt met infliximab op 1-1-2020 | B8: 100
A10: Infliximab: prijs/mg | B10: =Voorblad!B11 -> 4.92
A11: Ontvangen korting huidig voorkeursmiddel tot aan eventuele overstap (%) | B11: 0.15 | C11: Let op: dit is een fictief voorbeeld!
A12: Geboden korting wanneer huidig voorkeursmiddel preferent is (%) | B12: 0.2 | C12: Let op: dit is een fictief voorbeeld!
A13: Geboden korting wanneer huidig voorkeursmiddel niet preferent is (%) | B13: 0.02 | C13: Let op: dit is een fictief voorbeeld!
A14: Korting nieuw voorkeursmiddel (%) | B14: 0.35 | C14: Let op: dit is een fictief voorbeeld!
A16: In te vullen per scenario
A17: Percentage van de bestaande infliximabpatienten dat switcht | B17: 0.8 | C17: Let op: dit is een fictief voorbeeld!
A18: Percentage patienten dat behandeld blijft met huidige voorkeursmiddel | B18: =100%-B17 -> 0.2
A20: Startdatum van switch | B20: 43831
A21: Einddatum switchperiode | B21: 43922
A22: Eerste dag switchjaar | B22: ="1-1-"& YEAR(B20) -> 1-1-2020
A23: Laatste dag switchjaar+1 | B23: =DATE(YEAR(B20)+1,12,31) -> 44561
A24: Aantal maanden tot switch | B24: =ROUND((B20-B22)/365*12,0) -> 0
A25: Aantal maanden gedurende switch | B25: =ROUND(((B21-B20)/365*12),0) -> 3
A26: Aantal maanden na switch | B26: =ROUND(((B23-B21)/365*12),0) -> 21
A28: Kosten per patient voor infrastructuur voor een geslaagde switch | B28: 50 | C28: Denk hierbij aan het maken van voorlichtingsmateriaal en extra tijd voor voorlichting in de spreekkamer/apotheek, omgerekend naar kosten per patiënt
A31: Kosten vóór switch (per jaar) | B31: AIP | D31: met korting
A32: Huidig voorkeursmiddel | B32: =B5*B10 -> 1119300 | D32: =B5*(1-B11)*B10 -> 951405 | E32: =D32 -> 951405 | F32: per jaar
A34: =CONCATENATE("Kosten switchjaren ",YEAR(B22),"-",YEAR(B23)) -> Kosten switchjaren 2020-2021 | B34: AIP | C34: geen switch | D34: wel switch
A35: Huidig voorkeursmiddel | B35: =B5*B10*2 -> 2238600 | C35: =(B8*B7*(1-B11)*B10*B24)+(B8*B7*(1-B12)*B10*(B25+B26)) -> 1794816
A36: Kosten tot aan switch | D36: =B8*B7*(1-B11)*B10*B24 -> 0
A37: Kosten voor NIET-switchers gedurende switch | D37: =B8*B18*B7*(1-B13)*B10*B25 -> 54966.24
A38: Kosten voor switchers gedurende switch | D38: =0.5*B8*B17*B7*(1-B13)*B10*B25 -> 109932.48
A39: Kosten niet-switchers na switch | D39: =B8*(B18)*B7*(1-B13)*B10*B26 -> 384763.68
A40: Nieuwe voorkeursmiddel
A41: Kosten voor switchers gedurende switch | D41: =0.5*B8*B17*B7*(1-B14)*B10*B25 -> 72914.4
A42: Kosten voor switchers na switch | D42: =B8*B17*B7*(1-B14)*B10*B26 -> 1020801.6
A43: Switchkosten | D43: =B28*B8*B17 -> 4000
A44: Totaal | B44: =SUM(B35:B43) -> 2238600 | C44: =SUM(C35:C43) -> 1794816 | D44: =SUM(D35:D43) -> 1647378.4 | E44: =D44/2 -> 823689.2 | F44: gemiddeld per jaar (over 2 jaar)
A45: Opbrengst switch | D45: =C44-D44 -> 147437.6 | E45: =E32-E44 -> 127715.8 | F45: besparing t.o.v. uitgangssituatie
A47: Kosten na switchjaren (per jaar) | B47: AIP | C47: geen switch | D47: wel switch
A48: Huidig voorkeursmiddel | B48: =B8*B7*12*B10 -> 1121760 | C48: =B8*B7*(1-B12)*B10*12 -> 897408 | D48: =B8*B18*B7*(1-B13)*B10*12 -> 219864.96
A49: Nieuwe voorkeursmiddel | D49: =B8*B17*B7*(1-B14)*B10*12 -> 583315.2 | E49: =D49+D48 -> 803180.16 | F49: per jaar
E50: =E32-E49 -> 148224.84 | F50: besparing t.o.v. uitgangssituatie
